BEGIN:VCALENDAR
VERSION:2.0
PRODID:-//Carefirst - ECPv6.15.20//NONSGML v1.0//EN
CALSCALE:GREGORIAN
METHOD:PUBLISH
X-ORIGINAL-URL:https://carefirstontario.ca
X-WR-CALDESC:Events for Carefirst
REFRESH-INTERVAL;VALUE=DURATION:PT1H
X-Robots-Tag:noindex
X-PUBLISHED-TTL:PT1H
BEGIN:VTIMEZONE
TZID:America/Toronto
BEGIN:DAYLIGHT
TZOFFSETFROM:-0500
TZOFFSETTO:-0400
TZNAME:EDT
DTSTART:20240310T070000
END:DAYLIGHT
BEGIN:STANDARD
TZOFFSETFROM:-0400
TZOFFSETTO:-0500
TZNAME:EST
DTSTART:20241103T060000
END:STANDARD
BEGIN:DAYLIGHT
TZOFFSETFROM:-0500
TZOFFSETTO:-0400
TZNAME:EDT
DTSTART:20250309T070000
END:DAYLIGHT
BEGIN:STANDARD
TZOFFSETFROM:-0400
TZOFFSETTO:-0500
TZNAME:EST
DTSTART:20251102T060000
END:STANDARD
BEGIN:DAYLIGHT
TZOFFSETFROM:-0500
TZOFFSETTO:-0400
TZNAME:EDT
DTSTART:20260308T070000
END:DAYLIGHT
BEGIN:STANDARD
TZOFFSETFROM:-0400
TZOFFSETTO:-0500
TZNAME:EST
DTSTART:20261101T060000
END:STANDARD
END:VTIMEZONE
BEGIN:VEVENT
DTSTART;TZID=America/Toronto:20250905T100000
DTEND;TZID=America/Toronto:20250905T160000
DTSTAMP:20260423T194133
CREATED:20250803T211342Z
LAST-MODIFIED:20250901T222945Z
UID:31867-1757066400-1757088000@carefirstontario.ca
SUMMARY:Community Care Clinic
DESCRIPTION:We Provide Preventative Care Services. Visit our walk-in clinic. Seen by nurse practitioners. Health Consultations to prevent conditionsConnecting to the community servicesNon-life-threatening medical conditions;General health and wellness advice; orCurrently with NO OHIP and/or without a family doctor / nurse practitionerto book an appointment\, please call 437-772-3415 or go to www.picktime.com/communitycareclinic
URL:https://carefirstontario.ca/event/community-care-clinic-57/
LOCATION:300 Silver Star Blvd\, Toronto\, ON M1V 0G2\, Canada
CATEGORIES:Health and Wellbeing
END:VEVENT
BEGIN:VEVENT
DTSTART;TZID=America/Toronto:20250905T103000
DTEND;TZID=America/Toronto:20250905T163000
DTSTAMP:20260423T194133
CREATED:20250803T211342Z
LAST-MODIFIED:20250901T222945Z
UID:31868-1757068200-1757089800@carefirstontario.ca
SUMMARY:Community Care Clinic
DESCRIPTION:We Provide Preventative Care Services. Visit our walk-in clinic. Seen by nurse practitioners. Health Consultations to prevent conditionsConnecting to the community servicesNon-life-threatening medical conditions;General health and wellness advice; orCurrently with NO OHIP and/or without a family doctor / nurse practitionerto book an appointment\, please call 437-772-3415 or go to www.picktime.com/communitycareclinic
URL:https://carefirstontario.ca/event/community-care-clinic-58/
LOCATION:45 Crosby Ave\, Richmond Hill\, ON L4C 5T3\, Canada
CATEGORIES:Health and Wellbeing
END:VEVENT
BEGIN:VEVENT
DTSTART;TZID=America/Toronto:20250905T110000
DTEND;TZID=America/Toronto:20250905T130000
DTSTAMP:20260423T194133
CREATED:20250320T160528Z
LAST-MODIFIED:20250904T200615Z
UID:29117-1757070000-1757077200@carefirstontario.ca
SUMMARY:Pre-DM Group (Cantonese) (DEP)
DESCRIPTION:Prediabetes Session (Cantonese) Speakers: Registered Dietitian Description:Carefirst Diabetes Education Program (DEP) will be hosting a virtual education session on prediabetes management. This educational session will provide knowledge and understanding to diabetes and its diagnosis. It will also provide lifestyle tips to lead a healthier lifestyle. Prerequisite requirement: individuals who have attended General Diabetes Education Group Sessions and is enrolled in Carefirst Diabetes Education Program. For registration\, please call 416-847-0283 What you’ll learn:  How prediabetes and diabetes is diagnosedHow to calculate body mass index\, measure waist circumference\, and their targetsGlycemic\, blood pressure and cholesterol controlLifestyle management to achieve optimal glycemic\, blood pressure and cholesterol controlGlycemic indexSugars and sweeteners 糖尿病前期專場（粵語） 講者：註冊營養師 描述： 耆暉會糖尿病教育計畫 (DEP) 將舉辦關於糖尿病前期管理的虛擬教育會議。該教育課程將提供有關糖尿病及其診斷的知識和理解。它還將提供生活方式提示，以引導更健康的生活方式。 先決條件：參加過普通糖尿病教育小組會議並參加 Carefirst 糖尿病教育計劃的個人。 報名請電416-847-0283 你將學到什麼：  如何診斷糖尿病前期和糖尿病如何計算身體質量指數、測量腰圍及其目標血糖、血壓和膽固醇控制生活方式管理以實現最佳血糖、血壓和膽固醇控制血糖指數 – 糖和甜味劑
URL:https://carefirstontario.ca/event/pre-dm-group-cantonese-dep-6/
CATEGORIES:Diabetes
END:VEVENT
END:VCALENDAR