BEGIN:VCALENDAR
VERSION:2.0
PRODID:-//Carefirst - ECPv6.15.20//NONSGML v1.0//EN
CALSCALE:GREGORIAN
METHOD:PUBLISH
X-ORIGINAL-URL:https://carefirstontario.ca
X-WR-CALDESC:Events for Carefirst
REFRESH-INTERVAL;VALUE=DURATION:PT1H
X-Robots-Tag:noindex
X-PUBLISHED-TTL:PT1H
BEGIN:VTIMEZONE
TZID:America/Toronto
BEGIN:DAYLIGHT
TZOFFSETFROM:-0500
TZOFFSETTO:-0400
TZNAME:EDT
DTSTART:20240310T070000
END:DAYLIGHT
BEGIN:STANDARD
TZOFFSETFROM:-0400
TZOFFSETTO:-0500
TZNAME:EST
DTSTART:20241103T060000
END:STANDARD
BEGIN:DAYLIGHT
TZOFFSETFROM:-0500
TZOFFSETTO:-0400
TZNAME:EDT
DTSTART:20250309T070000
END:DAYLIGHT
BEGIN:STANDARD
TZOFFSETFROM:-0400
TZOFFSETTO:-0500
TZNAME:EST
DTSTART:20251102T060000
END:STANDARD
BEGIN:DAYLIGHT
TZOFFSETFROM:-0500
TZOFFSETTO:-0400
TZNAME:EDT
DTSTART:20260308T070000
END:DAYLIGHT
BEGIN:STANDARD
TZOFFSETFROM:-0400
TZOFFSETTO:-0500
TZNAME:EST
DTSTART:20261101T060000
END:STANDARD
END:VTIMEZONE
BEGIN:VEVENT
DTSTART;TZID=America/Toronto:20250909T100000
DTEND;TZID=America/Toronto:20250909T110000
DTSTAMP:20260423T194126
CREATED:20250828T224319Z
LAST-MODIFIED:20250908T212423Z
UID:32154-1757412000-1757415600@carefirstontario.ca
SUMMARY:Home Safety (Cantonese)
DESCRIPTION:Home Safety (Cantonese) Date: September 9\, 2025 (Tuesday)Time: 10:00am – 11:00amContent:Falls Prevention TipsChemical SafetyTips to Avoid Break-inRegistration/ Enquiry: 416-646-5108Zoom Meeting: 89863556634Password: 1051Click to see detail家居安全 (粵語) [網上]日期:  九月九日 (星期二)時間: 上午十時至十一時内容:跌倒危機化學品安全防盜貼士查詢或報名: 416-646-5108Zoom 會議: 89863556634密碼: 1051點擊查詢詳情
URL:https://carefirstontario.ca/event/home-safety-cantonese-2/
LOCATION:Zoom
CATEGORIES:Community Support
END:VEVENT
END:VCALENDAR