BEGIN:VCALENDAR
VERSION:2.0
PRODID:-//Carefirst - ECPv6.15.20//NONSGML v1.0//EN
CALSCALE:GREGORIAN
METHOD:PUBLISH
X-WR-CALNAME:Carefirst
X-ORIGINAL-URL:https://carefirstontario.ca
X-WR-CALDESC:Events for Carefirst
REFRESH-INTERVAL;VALUE=DURATION:PT1H
X-Robots-Tag:noindex
X-PUBLISHED-TTL:PT1H
BEGIN:VTIMEZONE
TZID:America/Toronto
BEGIN:DAYLIGHT
TZOFFSETFROM:-0500
TZOFFSETTO:-0400
TZNAME:EDT
DTSTART:20240310T070000
END:DAYLIGHT
BEGIN:STANDARD
TZOFFSETFROM:-0400
TZOFFSETTO:-0500
TZNAME:EST
DTSTART:20241103T060000
END:STANDARD
BEGIN:DAYLIGHT
TZOFFSETFROM:-0500
TZOFFSETTO:-0400
TZNAME:EDT
DTSTART:20250309T070000
END:DAYLIGHT
BEGIN:STANDARD
TZOFFSETFROM:-0400
TZOFFSETTO:-0500
TZNAME:EST
DTSTART:20251102T060000
END:STANDARD
BEGIN:DAYLIGHT
TZOFFSETFROM:-0500
TZOFFSETTO:-0400
TZNAME:EDT
DTSTART:20260308T070000
END:DAYLIGHT
BEGIN:STANDARD
TZOFFSETFROM:-0400
TZOFFSETTO:-0500
TZNAME:EST
DTSTART:20261101T060000
END:STANDARD
END:VTIMEZONE
BEGIN:VEVENT
DTSTART;TZID=America/Toronto:20250910T100000
DTEND;TZID=America/Toronto:20250910T113000
DTSTAMP:20260423T193956
CREATED:20250819T201916Z
LAST-MODIFIED:20250909T215801Z
UID:32057-1757498400-1757503800@carefirstontario.ca
SUMMARY:Spousal Loss Support Group (Cantonese)
DESCRIPTION:“Goodbye My Love” – Spousal Loss Support Group (Cantonese) Date: September 3 to October 8\, 2025 (Every Wednesday\, 6 Sessions)Time: 10:00am -11:30amVenue: Room 249\, 300 Silver Star Blvd\, Scarborough\, M1V 0G2Content: UNDERSTANDING COMPLEX EMOTIONSCOPING WITH GRIEFFACING LIFE TRANSITIONSADAPTING TO A NEW CHAPTERLEARNING TO SAY GOODBYERegistration Required （416-847-0254 Raymond Leung）Click to see detail“和您好好說再見” – 喪偶支援小組 (廣東話) 日期：2025年9月3日至10月8日 (逢星期三\, 共6節)時間：上午10時至11時30分地點：耆暉會一站式服務中心            Room 249\, 300 Silver Star Blvd\, Scarborough\, M1V 0G2內容：認識複雜情緒哀傷處理面對轉變適應新生活如何好好說再見必須報名 （416-847-0254 梁先生）點擊查詢詳情
URL:https://carefirstontario.ca/event/spousal-loss-support-group-cantonese-8/
LOCATION:300 Silver Star Blvd\, Toronto\, ON M1V 0G2\, Canada
CATEGORIES:Community Support
END:VEVENT
END:VCALENDAR