BEGIN:VCALENDAR
VERSION:2.0
PRODID:-//Carefirst - ECPv6.15.20//NONSGML v1.0//EN
CALSCALE:GREGORIAN
METHOD:PUBLISH
X-ORIGINAL-URL:https://carefirstontario.ca
X-WR-CALDESC:Events for Carefirst
REFRESH-INTERVAL;VALUE=DURATION:PT1H
X-Robots-Tag:noindex
X-PUBLISHED-TTL:PT1H
BEGIN:VTIMEZONE
TZID:America/Toronto
BEGIN:DAYLIGHT
TZOFFSETFROM:-0500
TZOFFSETTO:-0400
TZNAME:EDT
DTSTART:20240310T070000
END:DAYLIGHT
BEGIN:STANDARD
TZOFFSETFROM:-0400
TZOFFSETTO:-0500
TZNAME:EST
DTSTART:20241103T060000
END:STANDARD
BEGIN:DAYLIGHT
TZOFFSETFROM:-0500
TZOFFSETTO:-0400
TZNAME:EDT
DTSTART:20250309T070000
END:DAYLIGHT
BEGIN:STANDARD
TZOFFSETFROM:-0400
TZOFFSETTO:-0500
TZNAME:EST
DTSTART:20251102T060000
END:STANDARD
BEGIN:DAYLIGHT
TZOFFSETFROM:-0500
TZOFFSETTO:-0400
TZNAME:EDT
DTSTART:20260308T070000
END:DAYLIGHT
BEGIN:STANDARD
TZOFFSETFROM:-0400
TZOFFSETTO:-0500
TZNAME:EST
DTSTART:20261101T060000
END:STANDARD
END:VTIMEZONE
BEGIN:VEVENT
DTSTART;TZID=America/Toronto:20250916T100000
DTEND;TZID=America/Toronto:20250916T110000
DTSTAMP:20260423T194131
CREATED:20250828T224319Z
LAST-MODIFIED:20250914T231348Z
UID:32155-1758016800-1758020400@carefirstontario.ca
SUMMARY:Positive Psychology: The Power of Memories (Cantonese)
DESCRIPTION:Positive Psychology: The Power of Memories (Cantonese) Date: September 16\, 2025 (Tuesday)Time: 10:00am – 11:00amContent:Let Memories Become a Source of Inner StrengthWhat Can We Reminisce About?How to Discover the Treasures of Childhood?Registration/ Enquiry: 416-646-5108Zoom Meeting: 89863556634Password: 1051Click to see detail正向心理學: 回憶的力量 (粵語) [網上]日期:  九月十六日 (星期二)時間: 上午十時至十一時内容:讓回憶成為一種心靈的力量可以懷舊些什麼如何發掘童年的寶藏查詢或報名: 416-646-5108Zoom 會議: 89863556634密碼: 1051點擊查詢詳情
URL:https://carefirstontario.ca/event/positive-psychology-the-power-of-memories-cantonese/
LOCATION:Zoom
CATEGORIES:Community Support
END:VEVENT
BEGIN:VEVENT
DTSTART;TZID=America/Toronto:20250916T103000
DTEND;TZID=America/Toronto:20250916T163000
DTSTAMP:20260423T194131
CREATED:20250803T211344Z
LAST-MODIFIED:20250912T202409Z
UID:31872-1758018600-1758040200@carefirstontario.ca
SUMMARY:Community Care Clinic
DESCRIPTION:We Provide Preventative Care Services. Visit our walk-in clinic. Seen by nurse practitioners. Health Consultations to prevent conditionsConnecting to the community servicesNon-life-threatening medical conditions;General health and wellness advice; orCurrently with NO OHIP and/or without a family doctor / nurse practitionerto book an appointment\, please call 437-772-3415 or go to www.picktime.com/communitycareclinic
URL:https://carefirstontario.ca/event/community-care-clinic-61/
LOCATION:7220 Kennedy Rd\, Markham\, ON L3R 7P2\, Canada
CATEGORIES:Health and Wellbeing
END:VEVENT
END:VCALENDAR