BEGIN:VCALENDAR
VERSION:2.0
PRODID:-//Carefirst - ECPv6.15.20//NONSGML v1.0//EN
CALSCALE:GREGORIAN
METHOD:PUBLISH
X-WR-CALNAME:Carefirst
X-ORIGINAL-URL:https://carefirstontario.ca
X-WR-CALDESC:Events for Carefirst
REFRESH-INTERVAL;VALUE=DURATION:PT1H
X-Robots-Tag:noindex
X-PUBLISHED-TTL:PT1H
BEGIN:VTIMEZONE
TZID:America/Toronto
BEGIN:DAYLIGHT
TZOFFSETFROM:-0500
TZOFFSETTO:-0400
TZNAME:EDT
DTSTART:20240310T070000
END:DAYLIGHT
BEGIN:STANDARD
TZOFFSETFROM:-0400
TZOFFSETTO:-0500
TZNAME:EST
DTSTART:20241103T060000
END:STANDARD
BEGIN:DAYLIGHT
TZOFFSETFROM:-0500
TZOFFSETTO:-0400
TZNAME:EDT
DTSTART:20250309T070000
END:DAYLIGHT
BEGIN:STANDARD
TZOFFSETFROM:-0400
TZOFFSETTO:-0500
TZNAME:EST
DTSTART:20251102T060000
END:STANDARD
BEGIN:DAYLIGHT
TZOFFSETFROM:-0500
TZOFFSETTO:-0400
TZNAME:EDT
DTSTART:20260308T070000
END:DAYLIGHT
BEGIN:STANDARD
TZOFFSETFROM:-0400
TZOFFSETTO:-0500
TZNAME:EST
DTSTART:20261101T060000
END:STANDARD
END:VTIMEZONE
BEGIN:VEVENT
DTSTART;TZID=America/Toronto:20250917T100000
DTEND;TZID=America/Toronto:20250917T113000
DTSTAMP:20260423T194007
CREATED:20250819T201916Z
LAST-MODIFIED:20250914T231348Z
UID:32058-1758103200-1758108600@carefirstontario.ca
SUMMARY:Spousal Loss Support Group (Cantonese)
DESCRIPTION:“Goodbye My Love” – Spousal Loss Support Group (Cantonese) Date: September 3 to October 8\, 2025 (Every Wednesday\, 6 Sessions)Time: 10:00am -11:30amVenue: Room 249\, 300 Silver Star Blvd\, Scarborough\, M1V 0G2Content: UNDERSTANDING COMPLEX EMOTIONSCOPING WITH GRIEFFACING LIFE TRANSITIONSADAPTING TO A NEW CHAPTERLEARNING TO SAY GOODBYERegistration Required （416-847-0254 Raymond Leung）Click to see detail“和您好好說再見” – 喪偶支援小組 (廣東話) 日期：2025年9月3日至10月8日 (逢星期三\, 共6節)時間：上午10時至11時30分地點：耆暉會一站式服務中心            Room 249\, 300 Silver Star Blvd\, Scarborough\, M1V 0G2內容：認識複雜情緒哀傷處理面對轉變適應新生活如何好好說再見必須報名 （416-847-0254 梁先生）點擊查詢詳情
URL:https://carefirstontario.ca/event/spousal-loss-support-group-cantonese-9/
LOCATION:300 Silver Star Blvd\, Toronto\, ON M1V 0G2\, Canada
CATEGORIES:Community Support
END:VEVENT
BEGIN:VEVENT
DTSTART;TZID=America/Toronto:20250917T140000
DTEND;TZID=America/Toronto:20250917T170000
DTSTAMP:20260423T194007
CREATED:20250401T154852Z
LAST-MODIFIED:20250917T201400Z
UID:30063-1758117600-1758128400@carefirstontario.ca
SUMMARY:Diabetes Education Session (Cantonese) (DEP)
DESCRIPTION:Diabetes Education Session – Weekday (Cantonese) When: Wednesday Time: 2:00-5:00 pm Speakers: Registered Nurse and Registered Dietitian Description:Carefirst Diabetes Education Program (DEP) will be hosting a virtual education session on diabetes management. This educational session will include knowledge and understanding of diabetes and preventative measures. This session is open for registered individuals of the DEP program. For more information\, or if you want to register for the Diabetes Education Group Session\, please call 416-847-0283. What you’ll learn:  Understanding the basics of diabetesPrevention of diabetes-related complicationsHealthy eating and exercise with diabetes 糖尿病教育講座 – 周日（粵語） 時間：週三 時間：下午2:00-5:00 講者：註冊護士和註冊營養師 描述： 耆暉會糖尿病教育計畫 (DEP) 將舉辦有關糖尿病管理的虛擬教育課程。教育課程將包括對糖尿病和預防措施的知識和理解。 本次會議向 DEP 計劃的註冊個人開放。如需了解更多信息，或者如果您想註冊參加糖尿病教育小組會議，請致電 416-847-0283。 你將學到什麼：  了解糖尿病的基礎知識預防糖尿病相關併發症糖尿病患者的健康飲食與運動
URL:https://carefirstontario.ca/event/diabetes-education-session-cantonese-dep-3/
CATEGORIES:Diabetes
END:VEVENT
END:VCALENDAR