BEGIN:VCALENDAR
VERSION:2.0
PRODID:-//Carefirst - ECPv6.15.20//NONSGML v1.0//EN
CALSCALE:GREGORIAN
METHOD:PUBLISH
X-WR-CALNAME:Carefirst
X-ORIGINAL-URL:https://carefirstontario.ca
X-WR-CALDESC:Events for Carefirst
REFRESH-INTERVAL;VALUE=DURATION:PT1H
X-Robots-Tag:noindex
X-PUBLISHED-TTL:PT1H
BEGIN:VTIMEZONE
TZID:America/Toronto
BEGIN:DAYLIGHT
TZOFFSETFROM:-0500
TZOFFSETTO:-0400
TZNAME:EDT
DTSTART:20240310T070000
END:DAYLIGHT
BEGIN:STANDARD
TZOFFSETFROM:-0400
TZOFFSETTO:-0500
TZNAME:EST
DTSTART:20241103T060000
END:STANDARD
BEGIN:DAYLIGHT
TZOFFSETFROM:-0500
TZOFFSETTO:-0400
TZNAME:EDT
DTSTART:20250309T070000
END:DAYLIGHT
BEGIN:STANDARD
TZOFFSETFROM:-0400
TZOFFSETTO:-0500
TZNAME:EST
DTSTART:20251102T060000
END:STANDARD
BEGIN:DAYLIGHT
TZOFFSETFROM:-0500
TZOFFSETTO:-0400
TZNAME:EDT
DTSTART:20260308T070000
END:DAYLIGHT
BEGIN:STANDARD
TZOFFSETFROM:-0400
TZOFFSETTO:-0500
TZNAME:EST
DTSTART:20261101T060000
END:STANDARD
END:VTIMEZONE
BEGIN:VEVENT
DTSTART;TZID=America/Toronto:20250918T100000
DTEND;TZID=America/Toronto:20250918T160000
DTSTAMP:20260423T193950
CREATED:20250401T154949Z
LAST-MODIFIED:20250728T223200Z
UID:30093-1758189600-1758211200@carefirstontario.ca
SUMMARY:Community Care Clinic
DESCRIPTION:We provide Preventative care services\, to be seen by our nurse practitioner\nto book an appointment\, please call 437-772-3415 or go to www.picktime.com/communitycareclinic
URL:https://carefirstontario.ca/event/community-care-clinic-26/
LOCATION:105 Gibson Centre\, 105 Gibson Dr\, Markham\, ON L3R 3K7\, Canada
CATEGORIES:Health and Wellbeing
END:VEVENT
BEGIN:VEVENT
DTSTART;TZID=America/Toronto:20250918T100000
DTEND;TZID=America/Toronto:20250918T160000
DTSTAMP:20260423T193950
CREATED:20250803T211344Z
LAST-MODIFIED:20250916T212901Z
UID:31873-1758189600-1758211200@carefirstontario.ca
SUMMARY:Community Care Clinic
DESCRIPTION:We Provide Preventative Care Services. Visit our walk-in clinic. Seen by nurse practitioners. Health Consultations to prevent conditionsConnecting to the community servicesNon-life-threatening medical conditions;General health and wellness advice; orCurrently with NO OHIP and/or without a family doctor / nurse practitionerto book an appointment\, please call 437-772-3415 or go to www.picktime.com/communitycareclinic
URL:https://carefirstontario.ca/event/community-care-clinic-62/
LOCATION:105 Gibson Centre\, 105 Gibson Dr\, Markham\, ON L3R 3K7\, Canada
CATEGORIES:Health and Wellbeing
END:VEVENT
BEGIN:VEVENT
DTSTART;TZID=America/Toronto:20250918T110000
DTEND;TZID=America/Toronto:20250918T130000
DTSTAMP:20260423T193950
CREATED:20250829T212505Z
LAST-MODIFIED:20250917T210103Z
UID:32165-1758193200-1758200400@carefirstontario.ca
SUMMARY:Osteoporosis (Mandarin)
DESCRIPTION:骨質疏鬆症與預防（國語） 耆暉家庭醫療中心正在舉 行線上 小組講座，以讓公眾了解更多有關 組講座，以讓公眾了解更多有關 組講座，以讓公眾了解更多有關 組講座，以讓公眾了解更多有關 組講座，以讓公眾了解更多有關 組講座，以讓公眾了解更多有關骨質疏鬆症和預 防的知 識。本次講座將對所 有人士和社區開 放免費， 快來加 入吧 ！講座內 容:什麼是骨質疏鬆症區別骨質疏鬆症與關節炎風險因素症狀骨密 度測試藥物預防骨質疏鬆症患有骨質疏鬆症講者：註冊護士及營養師日期和時間：2025年9月18日，星期四，11:00 – 13:00 點擊下面的鏈接即可進入Zoom會議： https://us06web.zoom.us/j/85801468298 或 撥打電話號碼：+16475580588 或+16473744685 （然後輸入：858 0146 8298#） 會議ID：858 0146 8298 有關此小組會議的任何查詢可致電：（416）502-2323Ext 6193 點擊查詢詳情
URL:https://carefirstontario.ca/event/osteoporosis-mandarin/
CATEGORIES:Chronic Disease Management
END:VEVENT
END:VCALENDAR