BEGIN:VCALENDAR
VERSION:2.0
PRODID:-//Carefirst - ECPv6.15.20//NONSGML v1.0//EN
CALSCALE:GREGORIAN
METHOD:PUBLISH
X-WR-CALNAME:Carefirst
X-ORIGINAL-URL:https://carefirstontario.ca
X-WR-CALDESC:Events for Carefirst
REFRESH-INTERVAL;VALUE=DURATION:PT1H
X-Robots-Tag:noindex
X-PUBLISHED-TTL:PT1H
BEGIN:VTIMEZONE
TZID:America/Toronto
BEGIN:DAYLIGHT
TZOFFSETFROM:-0500
TZOFFSETTO:-0400
TZNAME:EDT
DTSTART:20240310T070000
END:DAYLIGHT
BEGIN:STANDARD
TZOFFSETFROM:-0400
TZOFFSETTO:-0500
TZNAME:EST
DTSTART:20241103T060000
END:STANDARD
BEGIN:DAYLIGHT
TZOFFSETFROM:-0500
TZOFFSETTO:-0400
TZNAME:EDT
DTSTART:20250309T070000
END:DAYLIGHT
BEGIN:STANDARD
TZOFFSETFROM:-0400
TZOFFSETTO:-0500
TZNAME:EST
DTSTART:20251102T060000
END:STANDARD
BEGIN:DAYLIGHT
TZOFFSETFROM:-0500
TZOFFSETTO:-0400
TZNAME:EDT
DTSTART:20260308T070000
END:DAYLIGHT
BEGIN:STANDARD
TZOFFSETFROM:-0400
TZOFFSETTO:-0500
TZNAME:EST
DTSTART:20261101T060000
END:STANDARD
END:VTIMEZONE
BEGIN:VEVENT
DTSTART;TZID=America/Toronto:20251007T100000
DTEND;TZID=America/Toronto:20251007T110000
DTSTAMP:20260423T194009
CREATED:20250930T204953Z
LAST-MODIFIED:20251006T230254Z
UID:32435-1759831200-1759834800@carefirstontario.ca
SUMMARY:Traditional Chinese Medicine & Massage Techniques (Cantonese)
DESCRIPTION:Traditional Chinese Medicine & Massage Techniques (Cantonese) Date: October 7\, 2025 (Tuesday)Time: 10:00am – 11:00amContent:Basic Traditional Chinese Medicine ConceptsDaily Self-Care & Wellness TipsSimple Self-Massage & Acupressure TechniquesStress Relief & Relaxation PracticesPractical Advice for Healthy LivingSpeaker: Dr. Zhanwen Kong\, TCM PractitionerRegistration/ Enquiry: 416-646-5108Zoom Meeting: 89863556634Password: 1051Click to see detail中醫保健與按摩技巧 (粵語) [網上]日期:  十月七日 (星期二)時間: 上午十時至十一時内容:中醫基礎概念日常自我保健與養生建議簡易自我按摩與穴位按壓方法壓力紓解與放鬆技巧實用健康生活建議講者: 孔展文中醫師查詢或報名: 416-646-5108Zoom 會議: 89863556634密碼: 1051點擊查詢詳情
URL:https://carefirstontario.ca/event/traditional-chinese-medicine-massage-techniques-cantonese/
LOCATION:Zoom
CATEGORIES:Community Support
END:VEVENT
END:VCALENDAR