BEGIN:VCALENDAR
VERSION:2.0
PRODID:-//Carefirst - ECPv6.15.20//NONSGML v1.0//EN
CALSCALE:GREGORIAN
METHOD:PUBLISH
X-WR-CALNAME:Carefirst
X-ORIGINAL-URL:https://carefirstontario.ca
X-WR-CALDESC:Events for Carefirst
REFRESH-INTERVAL;VALUE=DURATION:PT1H
X-Robots-Tag:noindex
X-PUBLISHED-TTL:PT1H
BEGIN:VTIMEZONE
TZID:America/Toronto
BEGIN:DAYLIGHT
TZOFFSETFROM:-0500
TZOFFSETTO:-0400
TZNAME:EDT
DTSTART:20240310T070000
END:DAYLIGHT
BEGIN:STANDARD
TZOFFSETFROM:-0400
TZOFFSETTO:-0500
TZNAME:EST
DTSTART:20241103T060000
END:STANDARD
BEGIN:DAYLIGHT
TZOFFSETFROM:-0500
TZOFFSETTO:-0400
TZNAME:EDT
DTSTART:20250309T070000
END:DAYLIGHT
BEGIN:STANDARD
TZOFFSETFROM:-0400
TZOFFSETTO:-0500
TZNAME:EST
DTSTART:20251102T060000
END:STANDARD
BEGIN:DAYLIGHT
TZOFFSETFROM:-0500
TZOFFSETTO:-0400
TZNAME:EDT
DTSTART:20260308T070000
END:DAYLIGHT
BEGIN:STANDARD
TZOFFSETFROM:-0400
TZOFFSETTO:-0500
TZNAME:EST
DTSTART:20261101T060000
END:STANDARD
END:VTIMEZONE
BEGIN:VEVENT
DTSTART;TZID=America/Toronto:20251028T100000
DTEND;TZID=America/Toronto:20251028T110000
DTSTAMP:20260423T194009
CREATED:20250930T204953Z
LAST-MODIFIED:20251027T221615Z
UID:32438-1761645600-1761649200@carefirstontario.ca
SUMMARY:Road Safety (Cantonese)
DESCRIPTION:Road Safety (Cantonese) Date: October 28\, 2025 (Tuesday)Time: 10:00am – 11:00amContent:Safety for Road UsersTickets and PenaltiesTransportation ArrangementsRegistration/ Enquiry: 416-646-5108Zoom Meeting: 89863556634Password: 1051Click to see detail交通安全 (粵語) [網上]日期:  十月二十八日 (星期二)時間: 上午十時至十一時内容:道路使用者安全罰款交通安排查詢或報名: 416-646-5108Zoom 會議: 89863556634密碼: 1051點擊查詢詳情
URL:https://carefirstontario.ca/event/road-safety-cantonese/
LOCATION:Zoom
CATEGORIES:Community Support
END:VEVENT
BEGIN:VEVENT
DTSTART;TZID=America/Toronto:20251028T100000
DTEND;TZID=America/Toronto:20251028T153000
DTSTAMP:20260423T194009
CREATED:20250411T233327Z
LAST-MODIFIED:20251027T221616Z
UID:30361-1761645600-1761665400@carefirstontario.ca
SUMMARY:Service Canada Clinic- Pension & CDCP
DESCRIPTION:Service Canada Clinic- Pension & CDCP Date: The last Tuesday of each monthTime: 10:00am – 3:30pmVenue: Carefirst One-Stop Multi-Services Centre              300 Silver Star Blvd.\, Scarborough  Enquiry / Registration: 416-646-5108  Eligibility: 55 years old or above Click to see detailService Canada 福利金諮詢及申請    日期: 每月最後一個星期二時間：上午10時至下午3時30分地點:  耆暉會一站式綜合社區服務中心             300 Silver Star Blvd.\, Scarborough    查詢 / 報名: 416-646-5108  報名條件: 55歲以上人士點擊查詢詳情
URL:https://carefirstontario.ca/event/service-canada-clinic-pension-cdcp-8/
LOCATION:300 Silver Star Blvd\, Toronto\, ON M1V 0G2\, Canada
CATEGORIES:Community Support
END:VEVENT
BEGIN:VEVENT
DTSTART;TZID=America/Toronto:20251028T170000
DTEND;TZID=America/Toronto:20251028T190000
DTSTAMP:20260423T194009
CREATED:20250401T154853Z
LAST-MODIFIED:20251028T212108Z
UID:30073-1761670800-1761678000@carefirstontario.ca
SUMMARY:Diabetes Education Session (English) (DEP)
DESCRIPTION:Diabetes Education Session (English) When: Tuesday Time: 5:00-7:00 pm Speakers: Registered Nurse\, Registered Dietitian and Registered Physiotherapist Description:Carefirst Diabetes Education Program (DEP) will be hosting a virtual education session on diabetes management. This educational session will include knowledge and understanding of diabetes and preventative measures. This session is open for registered individuals of the DEP program. For more information\, or if you want to register for the Diabetes Education Group Session\, please call 416-847-0283. What you’ll learn:  Understanding the basics of diabetesPrevention of diabetes-related complicationsHealthy eating and exercise with diabetes 
URL:https://carefirstontario.ca/event/diabetes-education-session-english-dep-8/
CATEGORIES:Diabetes
END:VEVENT
END:VCALENDAR