BEGIN:VCALENDAR
VERSION:2.0
PRODID:-//Carefirst - ECPv6.15.20//NONSGML v1.0//EN
CALSCALE:GREGORIAN
METHOD:PUBLISH
X-WR-CALNAME:Carefirst
X-ORIGINAL-URL:https://carefirstontario.ca
X-WR-CALDESC:Events for Carefirst
REFRESH-INTERVAL;VALUE=DURATION:PT1H
X-Robots-Tag:noindex
X-PUBLISHED-TTL:PT1H
BEGIN:VTIMEZONE
TZID:America/Toronto
BEGIN:DAYLIGHT
TZOFFSETFROM:-0500
TZOFFSETTO:-0400
TZNAME:EDT
DTSTART:20240310T070000
END:DAYLIGHT
BEGIN:STANDARD
TZOFFSETFROM:-0400
TZOFFSETTO:-0500
TZNAME:EST
DTSTART:20241103T060000
END:STANDARD
BEGIN:DAYLIGHT
TZOFFSETFROM:-0500
TZOFFSETTO:-0400
TZNAME:EDT
DTSTART:20250309T070000
END:DAYLIGHT
BEGIN:STANDARD
TZOFFSETFROM:-0400
TZOFFSETTO:-0500
TZNAME:EST
DTSTART:20251102T060000
END:STANDARD
BEGIN:DAYLIGHT
TZOFFSETFROM:-0500
TZOFFSETTO:-0400
TZNAME:EDT
DTSTART:20260308T070000
END:DAYLIGHT
BEGIN:STANDARD
TZOFFSETFROM:-0400
TZOFFSETTO:-0500
TZNAME:EST
DTSTART:20261101T060000
END:STANDARD
END:VTIMEZONE
BEGIN:VEVENT
DTSTART;TZID=America/Toronto:20251216T100000
DTEND;TZID=America/Toronto:20251216T110000
DTSTAMP:20260423T151156
CREATED:20251126T200954Z
LAST-MODIFIED:20251215T235822Z
UID:33031-1765879200-1765882800@carefirstontario.ca
SUMMARY:Winter Preparation & Fall Prevention (Cantonese)
DESCRIPTION:Winter Preparation & Fall Prevention (Cantonese) Date: Dec 16\, 2025 (Tuesday)Time: 10:00am – 11:00amContent:Relationship Between Physical Changes and WinterHome SafetyOutdoor SafetyRegistration/ Enquiry: 416-646-5108Zoom Meeting: 89863556634Password: 1051Click to see detail冬季準備與防跌指南 (粵語) 日期:  十二月十六日 (星期二)時間: 上午十時至十一時内容:身體轉變與冬季的關係家居安全戶外安全查詢或報名: 416-646-5108Zoom 會議: 89863556634密碼: 1051點擊查詢詳情
URL:https://carefirstontario.ca/event/winter-preparation-fall-prevention-cantonese/
LOCATION:Zoom
CATEGORIES:Community Support
END:VEVENT
BEGIN:VEVENT
DTSTART;TZID=America/Toronto:20251216T170000
DTEND;TZID=America/Toronto:20251216T190000
DTSTAMP:20260423T151156
CREATED:20250401T154855Z
LAST-MODIFIED:20251212T225709Z
UID:30086-1765904400-1765911600@carefirstontario.ca
SUMMARY:Diabetes Education Session (English) (DEP)
DESCRIPTION:Diabetes Education Session (English) When: Tuesday Time: 5:00-7:00 pm Speakers: Registered Nurse\, Registered Dietitian and Registered Physiotherapist Description:Carefirst Diabetes Education Program (DEP) will be hosting a virtual education session on diabetes management. This educational session will include knowledge and understanding of diabetes and preventative measures. This session is open for registered individuals of the DEP program. For more information\, or if you want to register for the Diabetes Education Group Session\, please call 416-847-0283. What you’ll learn:  Understanding the basics of diabetesPrevention of diabetes-related complicationsHealthy eating and exercise with diabetes 
URL:https://carefirstontario.ca/event/diabetes-education-session-english-dep-10/
CATEGORIES:Diabetes
END:VEVENT
END:VCALENDAR