BEGIN:VCALENDAR
VERSION:2.0
PRODID:-//Carefirst - ECPv6.15.20//NONSGML v1.0//EN
CALSCALE:GREGORIAN
METHOD:PUBLISH
X-WR-CALNAME:Carefirst
X-ORIGINAL-URL:https://carefirstontario.ca
X-WR-CALDESC:Events for Carefirst
REFRESH-INTERVAL;VALUE=DURATION:PT1H
X-Robots-Tag:noindex
X-PUBLISHED-TTL:PT1H
BEGIN:VTIMEZONE
TZID:America/Toronto
BEGIN:DAYLIGHT
TZOFFSETFROM:-0500
TZOFFSETTO:-0400
TZNAME:EDT
DTSTART:20240310T070000
END:DAYLIGHT
BEGIN:STANDARD
TZOFFSETFROM:-0400
TZOFFSETTO:-0500
TZNAME:EST
DTSTART:20241103T060000
END:STANDARD
BEGIN:DAYLIGHT
TZOFFSETFROM:-0500
TZOFFSETTO:-0400
TZNAME:EDT
DTSTART:20250309T070000
END:DAYLIGHT
BEGIN:STANDARD
TZOFFSETFROM:-0400
TZOFFSETTO:-0500
TZNAME:EST
DTSTART:20251102T060000
END:STANDARD
BEGIN:DAYLIGHT
TZOFFSETFROM:-0500
TZOFFSETTO:-0400
TZNAME:EDT
DTSTART:20260308T070000
END:DAYLIGHT
BEGIN:STANDARD
TZOFFSETFROM:-0400
TZOFFSETTO:-0500
TZNAME:EST
DTSTART:20261101T060000
END:STANDARD
END:VTIMEZONE
BEGIN:VEVENT
DTSTART;TZID=America/Toronto:20251223T100000
DTEND;TZID=America/Toronto:20251223T110000
DTSTAMP:20260423T151155
CREATED:20251126T200955Z
LAST-MODIFIED:20251222T215435Z
UID:33032-1766484000-1766487600@carefirstontario.ca
SUMMARY:I Want To Sleep Better (Cantonese)
DESCRIPTION:I Want To Sleep Better (Cantonese) Date: Dec 23\, 2025 (Tuesday)Time: 10:00am – 11:00amContent:Definition and Reason of InsomniaHow Sleep Hygiene Can Improve Sleep QualityEstablish Good Sleep HabitsRegistration/ Enquiry: 416-646-5108Zoom Meeting: 89863556634Password: 1051Click to see detail我想好瞓啲! (粵語) 日期:  十二月二十三日 (星期二)時間: 上午十時至十一時内容:失眠的定義及原因睡眠衛生如何提升睡眠品質建立良好的睡眠習慣查詢或報名: 416-646-5108Zoom 會議: 89863556634密碼: 1051點擊查詢詳情
URL:https://carefirstontario.ca/event/i-want-to-sleep-better-cantonese-2/
LOCATION:Zoom
CATEGORIES:Community Support
END:VEVENT
END:VCALENDAR