BEGIN:VCALENDAR
VERSION:2.0
PRODID:-//Carefirst - ECPv6.15.20//NONSGML v1.0//EN
CALSCALE:GREGORIAN
METHOD:PUBLISH
X-ORIGINAL-URL:https://carefirstontario.ca
X-WR-CALDESC:Events for Carefirst
REFRESH-INTERVAL;VALUE=DURATION:PT1H
X-Robots-Tag:noindex
X-PUBLISHED-TTL:PT1H
BEGIN:VTIMEZONE
TZID:America/Toronto
BEGIN:DAYLIGHT
TZOFFSETFROM:-0500
TZOFFSETTO:-0400
TZNAME:EDT
DTSTART:20250309T070000
END:DAYLIGHT
BEGIN:STANDARD
TZOFFSETFROM:-0400
TZOFFSETTO:-0500
TZNAME:EST
DTSTART:20251102T060000
END:STANDARD
BEGIN:DAYLIGHT
TZOFFSETFROM:-0500
TZOFFSETTO:-0400
TZNAME:EDT
DTSTART:20260308T070000
END:DAYLIGHT
BEGIN:STANDARD
TZOFFSETFROM:-0400
TZOFFSETTO:-0500
TZNAME:EST
DTSTART:20261101T060000
END:STANDARD
BEGIN:DAYLIGHT
TZOFFSETFROM:-0500
TZOFFSETTO:-0400
TZNAME:EDT
DTSTART:20270314T070000
END:DAYLIGHT
BEGIN:STANDARD
TZOFFSETFROM:-0400
TZOFFSETTO:-0500
TZNAME:EST
DTSTART:20271107T060000
END:STANDARD
END:VTIMEZONE
BEGIN:VEVENT
DTSTART;TZID=America/Toronto:20260106T100000
DTEND;TZID=America/Toronto:20260106T110000
DTSTAMP:20260423T134011
CREATED:20260102T200653Z
LAST-MODIFIED:20260104T204257Z
UID:33339-1767693600-1767697200@carefirstontario.ca
SUMMARY:EA Series: Keep Well With Your Personal Document (Cantonese)
DESCRIPTION:EA Series: Keep Well With Your Personal Document (Cantonese) Date: Jan 6\, 2026 (Tuesday)Time: 10:00am – 11:00amContent:Review and Organize Your DocumentsPreventing Identity TheftCommunity ResourcesRegistration/ Enquiry: 416-646-5108Zoom Meeting: 89863556634Password: 1051Click to see detail護老系列: 「證」到用時方恨少 (粵語) 日期:  一月六日 (星期二)時間: 上午十時至十一時内容:了解及保管個人身份證明文件預防身份盜用社區資源查詢或報名: 416-646-5108Zoom 會議: 89863556634密碼: 1051點擊查詢詳情
URL:https://carefirstontario.ca/event/ea-series-keep-well-with-your-personal-document-cantonese/
LOCATION:Zoom
CATEGORIES:Community Support
END:VEVENT
END:VCALENDAR