BEGIN:VCALENDAR
VERSION:2.0
PRODID:-//Carefirst - ECPv6.15.20//NONSGML v1.0//EN
CALSCALE:GREGORIAN
METHOD:PUBLISH
X-WR-CALNAME:Carefirst
X-ORIGINAL-URL:https://carefirstontario.ca
X-WR-CALDESC:Events for Carefirst
REFRESH-INTERVAL;VALUE=DURATION:PT1H
X-Robots-Tag:noindex
X-PUBLISHED-TTL:PT1H
BEGIN:VTIMEZONE
TZID:America/Toronto
BEGIN:DAYLIGHT
TZOFFSETFROM:-0500
TZOFFSETTO:-0400
TZNAME:EDT
DTSTART:20250309T070000
END:DAYLIGHT
BEGIN:STANDARD
TZOFFSETFROM:-0400
TZOFFSETTO:-0500
TZNAME:EST
DTSTART:20251102T060000
END:STANDARD
BEGIN:DAYLIGHT
TZOFFSETFROM:-0500
TZOFFSETTO:-0400
TZNAME:EDT
DTSTART:20260308T070000
END:DAYLIGHT
BEGIN:STANDARD
TZOFFSETFROM:-0400
TZOFFSETTO:-0500
TZNAME:EST
DTSTART:20261101T060000
END:STANDARD
BEGIN:DAYLIGHT
TZOFFSETFROM:-0500
TZOFFSETTO:-0400
TZNAME:EDT
DTSTART:20270314T070000
END:DAYLIGHT
BEGIN:STANDARD
TZOFFSETFROM:-0400
TZOFFSETTO:-0500
TZNAME:EST
DTSTART:20271107T060000
END:STANDARD
END:VTIMEZONE
BEGIN:VEVENT
DTSTART;TZID=America/Toronto:20260115T110000
DTEND;TZID=America/Toronto:20260115T130000
DTSTAMP:20260423T134209
CREATED:20260108T201801Z
LAST-MODIFIED:20260113T211713Z
UID:33410-1768474800-1768482000@carefirstontario.ca
SUMMARY:Hypertension Workshop
DESCRIPTION:Carefirst Family Health Team is holding a virtual group session for the general public to learn more about high blood pressure. What you will learn:   What is normal vs high blood pressureSymptomsCauses / risk factorsPreventionManagement Date / Time: Jan. 15\, 2026 from 11am-1pm Language: Cantonese  Speakers: Registered Nurse and Registered Dietitian  The session is open to all interested clients and community We will be using Zoom Meeting \,please join from your computer/smartphone. Please log in 15 minutes before the start time (11:00 am) Join on Zoom meeting by clicking on the link below: https://us06web.zoom.us/j/82308450232 Meeting ID: 823 0845 0232 Or  Dial by your location: +16473744685or +16475580588 (enter: 82308450232#) Phone:(905) 695 -1133 for any inquiries regarding this group session Click to see detail 高血壓講座 耆暉家庭醫療中心線上講座計劃，以讓公眾了解更多有關高血壓的知識。 講座內容包括:  什麼是正常血壓與高血壓高血壓會有哪些症狀高血壓的成因及風險因素如何預防高血壓如何控制及管理高血壓 日期/時間：2026年1月15日上午11-1時 語言：廣東話 講者：註冊護士及註冊營養師 是次講座開放予所有社區人士參與 我們將使用Zoom Meeting，請從您的電腦/智能手機加入。 請提早十五分鐘登錄，我們11:00pm準時開始 請用以下鏈接登錄:     https://us06web.zoom.us/j/82308450232 講座號碼: 823 0845 0232 或 致電:+16473744685/+16475580588 然後輸入: 82308450232# 點擊查詢詳情
URL:https://carefirstontario.ca/event/hypertension-workshop-2/
CATEGORIES:Chronic Disease Management
END:VEVENT
END:VCALENDAR