BEGIN:VCALENDAR
VERSION:2.0
PRODID:-//Carefirst - ECPv6.15.20//NONSGML v1.0//EN
CALSCALE:GREGORIAN
METHOD:PUBLISH
X-ORIGINAL-URL:https://carefirstontario.ca
X-WR-CALDESC:Events for Carefirst
REFRESH-INTERVAL;VALUE=DURATION:PT1H
X-Robots-Tag:noindex
X-PUBLISHED-TTL:PT1H
BEGIN:VTIMEZONE
TZID:America/Toronto
BEGIN:DAYLIGHT
TZOFFSETFROM:-0500
TZOFFSETTO:-0400
TZNAME:EDT
DTSTART:20250309T070000
END:DAYLIGHT
BEGIN:STANDARD
TZOFFSETFROM:-0400
TZOFFSETTO:-0500
TZNAME:EST
DTSTART:20251102T060000
END:STANDARD
BEGIN:DAYLIGHT
TZOFFSETFROM:-0500
TZOFFSETTO:-0400
TZNAME:EDT
DTSTART:20260308T070000
END:DAYLIGHT
BEGIN:STANDARD
TZOFFSETFROM:-0400
TZOFFSETTO:-0500
TZNAME:EST
DTSTART:20261101T060000
END:STANDARD
BEGIN:DAYLIGHT
TZOFFSETFROM:-0500
TZOFFSETTO:-0400
TZNAME:EDT
DTSTART:20270314T070000
END:DAYLIGHT
BEGIN:STANDARD
TZOFFSETFROM:-0400
TZOFFSETTO:-0500
TZNAME:EST
DTSTART:20271107T060000
END:STANDARD
END:VTIMEZONE
BEGIN:VEVENT
DTSTART;TZID=America/Toronto:20260127T100000
DTEND;TZID=America/Toronto:20260127T110000
DTSTAMP:20260423T121138
CREATED:20260102T200655Z
LAST-MODIFIED:20260121T235718Z
UID:33342-1769508000-1769511600@carefirstontario.ca
SUMMARY:Understanding Life Through Its Four Inevitable Stages: Birth\, Aging\, Illness\, And Death (Cantonese)
DESCRIPTION:Understanding Life Through Its Four Inevitable Stages: Birth\, Aging\, Illness\, And Death (Cantonese) Date: Jan 27\, 2026 (Tuesday)Time: 10:00am – 11:00amContent:Facing Life’s Four Inevitable StagesLiving a Peaceful and Fulfilling LifeRegistration/ Enquiry: 416-646-5108Zoom Meeting: 89863556634Password: 1051Click to see detail為什麼是「生、老、病、死」?看人生四個必經階段 (粵語) 日期:  一月二十七日 (星期二)時間: 上午十時至十一時内容:如何面對人生四個必經階段?如何安然度過一生?查詢或報名: 416-646-5108Zoom 會議: 89863556634密碼: 1051點擊查詢詳情
URL:https://carefirstontario.ca/event/understanding-life-through-its-four-inevitable-stages-birth-aging-illness-and-death-cantonese/
LOCATION:Zoom
CATEGORIES:Community Support
END:VEVENT
BEGIN:VEVENT
DTSTART;TZID=America/Toronto:20260127T100000
DTEND;TZID=America/Toronto:20260127T153000
DTSTAMP:20260423T121138
CREATED:20250411T233328Z
LAST-MODIFIED:20260121T235719Z
UID:30364-1769508000-1769527800@carefirstontario.ca
SUMMARY:Service Canada Clinic- Pension & CDCP
DESCRIPTION:Service Canada Clinic- Pension & CDCP Date: The last Tuesday of each monthTime: 10:00am – 3:30pmVenue: Carefirst One-Stop Multi-Services Centre              300 Silver Star Blvd.\, Scarborough  Enquiry / Registration: 416-646-5108  Eligibility: 55 years old or above Click to see detailService Canada 福利金諮詢及申請    日期: 每月最後一個星期二時間：上午10時至下午3時30分地點:  耆暉會一站式綜合社區服務中心             300 Silver Star Blvd.\, Scarborough    查詢 / 報名: 416-646-5108  報名條件: 55歲以上人士點擊查詢詳情
URL:https://carefirstontario.ca/event/service-canada-clinic-pension-cdcp-11/
LOCATION:300 Silver Star Blvd\, Toronto\, ON M1V 0G2\, Canada
CATEGORIES:Community Support
END:VEVENT
BEGIN:VEVENT
DTSTART;TZID=America/Toronto:20260127T170000
DTEND;TZID=America/Toronto:20260127T190000
DTSTAMP:20260423T121138
CREATED:20250709T202105Z
LAST-MODIFIED:20260126T214103Z
UID:31298-1769533200-1769540400@carefirstontario.ca
SUMMARY:Diabetes Education Session (English) (DEP)
DESCRIPTION:Diabetes Education Session (English) When: Tuesday Time: 5:00-7:00 pm Speakers: Registered Nurse\, Registered Dietitian and Registered Physiotherapist Description:Carefirst Diabetes Education Program (DEP) will be hosting a virtual education session on diabetes management. This educational session will include knowledge and understanding of diabetes and preventative measures. This session is open for registered individuals of the DEP program. For more information\, or if you want to register for the Diabetes Education Group Session\, please call 416-847-0283. What you’ll learn:  Understanding the basics of diabetesPrevention of diabetes-related complicationsHealthy eating and exercise with diabetes 
URL:https://carefirstontario.ca/event/diabetes-education-session-english-dep-11/
CATEGORIES:Diabetes
END:VEVENT
BEGIN:VEVENT
DTSTART;TZID=America/Toronto:20260127T170000
DTEND;TZID=America/Toronto:20260127T190000
DTSTAMP:20260423T121139
CREATED:20250709T202105Z
LAST-MODIFIED:20260126T214102Z
UID:31299-1769533200-1769540400@carefirstontario.ca
SUMMARY:Diabetes Education Session (English) (DEP)
DESCRIPTION:Diabetes Education Session (English) When: Tuesday Time: 5:00-7:00 pm Speakers: Registered Nurse\, Registered Dietitian and Registered Physiotherapist Description:Carefirst Diabetes Education Program (DEP) will be hosting a virtual education session on diabetes management. This educational session will include knowledge and understanding of diabetes and preventative measures. This session is open for registered individuals of the DEP program. For more information\, or if you want to register for the Diabetes Education Group Session\, please call 416-847-0283. What you’ll learn:  Understanding the basics of diabetesPrevention of diabetes-related complicationsHealthy eating and exercise with diabetes 
URL:https://carefirstontario.ca/event/diabetes-education-session-english-dep-12/
CATEGORIES:Diabetes
END:VEVENT
END:VCALENDAR