BEGIN:VCALENDAR
VERSION:2.0
PRODID:-//Carefirst - ECPv6.15.20//NONSGML v1.0//EN
CALSCALE:GREGORIAN
METHOD:PUBLISH
X-ORIGINAL-URL:https://carefirstontario.ca
X-WR-CALDESC:Events for Carefirst
REFRESH-INTERVAL;VALUE=DURATION:PT1H
X-Robots-Tag:noindex
X-PUBLISHED-TTL:PT1H
BEGIN:VTIMEZONE
TZID:America/Toronto
BEGIN:DAYLIGHT
TZOFFSETFROM:-0500
TZOFFSETTO:-0400
TZNAME:EDT
DTSTART:20250309T070000
END:DAYLIGHT
BEGIN:STANDARD
TZOFFSETFROM:-0400
TZOFFSETTO:-0500
TZNAME:EST
DTSTART:20251102T060000
END:STANDARD
BEGIN:DAYLIGHT
TZOFFSETFROM:-0500
TZOFFSETTO:-0400
TZNAME:EDT
DTSTART:20260308T070000
END:DAYLIGHT
BEGIN:STANDARD
TZOFFSETFROM:-0400
TZOFFSETTO:-0500
TZNAME:EST
DTSTART:20261101T060000
END:STANDARD
BEGIN:DAYLIGHT
TZOFFSETFROM:-0500
TZOFFSETTO:-0400
TZNAME:EDT
DTSTART:20270314T070000
END:DAYLIGHT
BEGIN:STANDARD
TZOFFSETFROM:-0400
TZOFFSETTO:-0500
TZNAME:EST
DTSTART:20271107T060000
END:STANDARD
END:VTIMEZONE
BEGIN:VEVENT
DTSTART;TZID=America/Toronto:20260212T110000
DTEND;TZID=America/Toronto:20260212T130000
DTSTAMP:20260423T121139
CREATED:20260108T201802Z
LAST-MODIFIED:20260208T211155Z
UID:33411-1770894000-1770901200@carefirstontario.ca
SUMMARY:Cholesterol Workshop
DESCRIPTION:Carefirst Family Health Team is holding a virtual group session for the general public to learn more about cholesterol. What you will learn:   Cholesterol Introduction to Coronary Heart Disease Symptom Responses Cardiovascular disease Risk factors TreatmentPrevention Date / Time: Feb. 12\, 2026 from 11am -1pm Language: Cantonese  Speakers: Registered Nurse and Registered Dietitian  The session is open to all interested clients and community  We will be using Zoom Meeting\, please join from your computer/smartphone.  Please log in 15 minutes before the start time (11:00 am) Join on Zoom meeting by clicking on the link below: https://us06web.zoom.us/j/81314841103 Meeting ID: 813 1484 1103 Or Dial by your location:+16473744685/ +16475580588  (enter: 81314841103#) Phone:(905) 695 -1133 for any inquiries regarding this group session Click to see detail 膽固醇講座  耆暉家庭醫療中心線上講座計劃，以讓公眾了解更多有關膽固醇的知識。 講座內容包括:  膽固醇冠心病簡介症狀應對措施心血管疾病危險因素治療預防 日期/時間：2026年2月12日上午11點至下午1點 語言：廣東話 講者：註冊護士及註冊營養師 是次講座開放予所有社區人士參與 我們將使用Zoom Meeting，請從您的電腦/智能手機加入。 請提早十五分鐘登錄，我們11:00pm準時開始 請用以下鏈接登錄:     https://us06web.zoom.us/j/81314841103 講座號碼:813 1484 1103 或 致電: +1 6475580588/+16473744685 然後輸入:81314841103# 點擊查詢詳情
URL:https://carefirstontario.ca/event/cholesterol-workshop-2/
CATEGORIES:Chronic Disease Management
END:VEVENT
END:VCALENDAR