BEGIN:VCALENDAR
VERSION:2.0
PRODID:-//Carefirst - ECPv6.15.20//NONSGML v1.0//EN
CALSCALE:GREGORIAN
METHOD:PUBLISH
X-WR-CALNAME:Carefirst
X-ORIGINAL-URL:https://carefirstontario.ca
X-WR-CALDESC:Events for Carefirst
REFRESH-INTERVAL;VALUE=DURATION:PT1H
X-Robots-Tag:noindex
X-PUBLISHED-TTL:PT1H
BEGIN:VTIMEZONE
TZID:America/Toronto
BEGIN:DAYLIGHT
TZOFFSETFROM:-0500
TZOFFSETTO:-0400
TZNAME:EDT
DTSTART:20250309T070000
END:DAYLIGHT
BEGIN:STANDARD
TZOFFSETFROM:-0400
TZOFFSETTO:-0500
TZNAME:EST
DTSTART:20251102T060000
END:STANDARD
BEGIN:DAYLIGHT
TZOFFSETFROM:-0500
TZOFFSETTO:-0400
TZNAME:EDT
DTSTART:20260308T070000
END:DAYLIGHT
BEGIN:STANDARD
TZOFFSETFROM:-0400
TZOFFSETTO:-0500
TZNAME:EST
DTSTART:20261101T060000
END:STANDARD
BEGIN:DAYLIGHT
TZOFFSETFROM:-0500
TZOFFSETTO:-0400
TZNAME:EDT
DTSTART:20270314T070000
END:DAYLIGHT
BEGIN:STANDARD
TZOFFSETFROM:-0400
TZOFFSETTO:-0500
TZNAME:EST
DTSTART:20271107T060000
END:STANDARD
END:VTIMEZONE
BEGIN:VEVENT
DTSTART;TZID=America/Toronto:20260305T140000
DTEND;TZID=America/Toronto:20260305T150000
DTSTAMP:20260423T104006
CREATED:20260226T202322Z
LAST-MODIFIED:20260227T210940Z
UID:33848-1772719200-1772722800@carefirstontario.ca
SUMMARY:Autoimmune vs. Degenerative Arthritis
DESCRIPTION:Autoimmune vs. Degenerative ArthritisSpeaker: Dr. Alan Zhou(Rheumatologist)  Dr Alan Zhou is a Rheumatologist practicing at Carefirst and Women’s College Hospital in Toronto with expertise in MSK Ultrasound and Quality Improvement. March 5\,2026 | 2:00PM -3:00PM  Language: Cantonese Virtual on Zoom  Registered participants will receive the access link prior to the session  What you’ll learn:  Explore the difference between autoimmune and degenerative arthritis.Highlight how these two common forms of joint disease differ in their causes\, symptoms and treatments.   To Register: Fill in the form using the link or QR Code\, or call 416-847-8940  https://us06web.zoom.us/meeting/register/5Z7zWF7cQhy3XEsDRlVV0Q For questions or enquiries: 416-847-8940 Click here for details ⾃體免疫性關節炎 vs. 退化性關節炎 主講嘉賓：Dr.Alan Zhou (⾵濕科專科醫⽣) Dr. Alan Zhou 為⾵濕科專科醫⽣，現於多倫多耆暉專科診所及 Women’s College Hospital 執業，專⻑包括肌⾁⻣骼超聲波及醫療品質改善。 語⾔: 廣東話 形式:Zoom 網上講座 成功登記者將於講座前收到會議連結 您將學到：  了解⾃體免疫性關節炎與退化性關節炎的分別重點介紹這兩種常⾒關節疾病的成因、症狀及治療⽅法  報名：請透過連結或掃描⼆維碼填寫報名表，或致電 416-847-8940  https://us06web.zoom.us/meeting/register/5Z7zWF7cQhy3XEsDRlVV0Q 掃描⼆維碼 如有任何疑問或諮詢，請致電416-847-8940 點擊查詢詳情
URL:https://carefirstontario.ca/event/autoimmune-vs-degenerative-arthritis/
CATEGORIES:Health and Wellbeing
END:VEVENT
END:VCALENDAR