BEGIN:VCALENDAR
VERSION:2.0
PRODID:-//Carefirst - ECPv6.15.20//NONSGML v1.0//EN
CALSCALE:GREGORIAN
METHOD:PUBLISH
X-ORIGINAL-URL:https://carefirstontario.ca
X-WR-CALDESC:Events for Carefirst
REFRESH-INTERVAL;VALUE=DURATION:PT1H
X-Robots-Tag:noindex
X-PUBLISHED-TTL:PT1H
BEGIN:VTIMEZONE
TZID:America/Toronto
BEGIN:DAYLIGHT
TZOFFSETFROM:-0500
TZOFFSETTO:-0400
TZNAME:EDT
DTSTART:20250309T070000
END:DAYLIGHT
BEGIN:STANDARD
TZOFFSETFROM:-0400
TZOFFSETTO:-0500
TZNAME:EST
DTSTART:20251102T060000
END:STANDARD
BEGIN:DAYLIGHT
TZOFFSETFROM:-0500
TZOFFSETTO:-0400
TZNAME:EDT
DTSTART:20260308T070000
END:DAYLIGHT
BEGIN:STANDARD
TZOFFSETFROM:-0400
TZOFFSETTO:-0500
TZNAME:EST
DTSTART:20261101T060000
END:STANDARD
BEGIN:DAYLIGHT
TZOFFSETFROM:-0500
TZOFFSETTO:-0400
TZNAME:EDT
DTSTART:20270314T070000
END:DAYLIGHT
BEGIN:STANDARD
TZOFFSETFROM:-0400
TZOFFSETTO:-0500
TZNAME:EST
DTSTART:20271107T060000
END:STANDARD
END:VTIMEZONE
BEGIN:VEVENT
DTSTART;TZID=America/Toronto:20260306T093000
DTEND;TZID=America/Toronto:20260306T153000
DTSTAMP:20260423T104908
CREATED:20260121T235720Z
LAST-MODIFIED:20260305T200851Z
UID:33542-1772789400-1772811000@carefirstontario.ca
SUMMARY:Tax Clinics for Seniors
DESCRIPTION:Tax Clinics for Seniors Date: March 6\, 2026Time: 9:30am – 3:30pmLocation: Carefirst One-Stop Multi-Services Centre                    300 Silver Star Blvd.\, Scarborough M1V 0G2    Registration: 416-646-5108  (Starting on February 9\, 2026)Click to see detail長者報稅服務   日期：2026年3月6日時間：上午9時30分至下午3時30分地點：耆暉會一站式綜合社區服務中心               300 Silver Star Blvd.\, Scarborough M1V 0G2   報名：416-646-5108 (2026年2月9日開始接受登記）點擊查詢詳情
URL:https://carefirstontario.ca/event/tax-clinics-for-seniors-4/
LOCATION:300 Silver Star Blvd\, Toronto\, ON M1V 0G2\, Canada
CATEGORIES:Community Support
END:VEVENT
END:VCALENDAR