BEGIN:VCALENDAR
VERSION:2.0
PRODID:-//Carefirst - ECPv6.15.20//NONSGML v1.0//EN
CALSCALE:GREGORIAN
METHOD:PUBLISH
X-WR-CALNAME:Carefirst
X-ORIGINAL-URL:https://carefirstontario.ca
X-WR-CALDESC:Events for Carefirst
REFRESH-INTERVAL;VALUE=DURATION:PT1H
X-Robots-Tag:noindex
X-PUBLISHED-TTL:PT1H
BEGIN:VTIMEZONE
TZID:America/Toronto
BEGIN:DAYLIGHT
TZOFFSETFROM:-0500
TZOFFSETTO:-0400
TZNAME:EDT
DTSTART:20250309T070000
END:DAYLIGHT
BEGIN:STANDARD
TZOFFSETFROM:-0400
TZOFFSETTO:-0500
TZNAME:EST
DTSTART:20251102T060000
END:STANDARD
BEGIN:DAYLIGHT
TZOFFSETFROM:-0500
TZOFFSETTO:-0400
TZNAME:EDT
DTSTART:20260308T070000
END:DAYLIGHT
BEGIN:STANDARD
TZOFFSETFROM:-0400
TZOFFSETTO:-0500
TZNAME:EST
DTSTART:20261101T060000
END:STANDARD
BEGIN:DAYLIGHT
TZOFFSETFROM:-0500
TZOFFSETTO:-0400
TZNAME:EDT
DTSTART:20270314T070000
END:DAYLIGHT
BEGIN:STANDARD
TZOFFSETFROM:-0400
TZOFFSETTO:-0500
TZNAME:EST
DTSTART:20271107T060000
END:STANDARD
END:VTIMEZONE
BEGIN:VEVENT
DTSTART;TZID=America/Toronto:20260317T100000
DTEND;TZID=America/Toronto:20260317T110000
DTSTAMP:20260423T103923
CREATED:20260225T224344Z
LAST-MODIFIED:20260316T211157Z
UID:33827-1773741600-1773745200@carefirstontario.ca
SUMMARY:Canadian Dental Care Plan (Cantonese*English)
DESCRIPTION:Canadian Dental Care Plan (Cantonese*English) Date: Mar 17\, 2026 (Tuesday)Time: 10:00am – 11:00amContent:Application EligibilityApplication ProcessFrequently Asked QuestionsSpeaker: SERVICE CANADARegistration/ Enquiry: 416-646-5108Zoom Meeting: 89863556634Password: 1051Click to see detail加拿⼤⽛科保健計劃 (英語*粵語) 日期:  三月十七日 (星期二)時間: 上午十時至十一時内容:申請資格申請流程常⾒問題講者: SERVICE CANADA *(設職員粵語旁譯）查詢或報名: 416-646-5108Zoom 會議: 89863556634密碼: 1051點擊查詢詳情
URL:https://carefirstontario.ca/event/canadian-dental-care-plan-cantoneseenglish/
LOCATION:Zoom
CATEGORIES:Community Support
END:VEVENT
END:VCALENDAR