BEGIN:VCALENDAR
VERSION:2.0
PRODID:-//Carefirst - ECPv6.15.20//NONSGML v1.0//EN
CALSCALE:GREGORIAN
METHOD:PUBLISH
X-WR-CALNAME:Carefirst
X-ORIGINAL-URL:https://carefirstontario.ca
X-WR-CALDESC:Events for Carefirst
REFRESH-INTERVAL;VALUE=DURATION:PT1H
X-Robots-Tag:noindex
X-PUBLISHED-TTL:PT1H
BEGIN:VTIMEZONE
TZID:America/Toronto
BEGIN:DAYLIGHT
TZOFFSETFROM:-0500
TZOFFSETTO:-0400
TZNAME:EDT
DTSTART:20250309T070000
END:DAYLIGHT
BEGIN:STANDARD
TZOFFSETFROM:-0400
TZOFFSETTO:-0500
TZNAME:EST
DTSTART:20251102T060000
END:STANDARD
BEGIN:DAYLIGHT
TZOFFSETFROM:-0500
TZOFFSETTO:-0400
TZNAME:EDT
DTSTART:20260308T070000
END:DAYLIGHT
BEGIN:STANDARD
TZOFFSETFROM:-0400
TZOFFSETTO:-0500
TZNAME:EST
DTSTART:20261101T060000
END:STANDARD
BEGIN:DAYLIGHT
TZOFFSETFROM:-0500
TZOFFSETTO:-0400
TZNAME:EDT
DTSTART:20270314T070000
END:DAYLIGHT
BEGIN:STANDARD
TZOFFSETFROM:-0400
TZOFFSETTO:-0500
TZNAME:EST
DTSTART:20271107T060000
END:STANDARD
END:VTIMEZONE
BEGIN:VEVENT
DTSTART;TZID=America/Toronto:20260428T100000
DTEND;TZID=America/Toronto:20260428T110000
DTSTAMP:20260423T090516
CREATED:20260406T200921Z
LAST-MODIFIED:20260422T230918Z
UID:35117-1777370400-1777374000@carefirstontario.ca
SUMMARY:Carefirst Services Introduction (Cantonese)
DESCRIPTION:Carefirst Services Introduction (Cantonese) Date: Apr 28\, 2026 (Tuesday)Time: 10:00am – 11:00amContent:Carefirst Senior ServicesCarefirst Family Health Team ServicesRegistration/ Enquiry: 416-646-5108Zoom Meeting: 391 797 0753Password: 1234Click to see detail耆暉會服務介紹 (粵語) 日期:  四月二十八日 (星期二)時間: 上午十時至十一時内容:耆暉會長者服務耆暉家庭醫療中心服務查詢或報名: 416-646-5108Zoom 會議: 391 797 0753密碼: 1234點擊查詢詳情
URL:https://carefirstontario.ca/event/carefirst-services-introduction-cantonese/
LOCATION:Zoom
CATEGORIES:Community Support
END:VEVENT
BEGIN:VEVENT
DTSTART;TZID=America/Toronto:20260428T100000
DTEND;TZID=America/Toronto:20260428T153000
DTSTAMP:20260423T090516
CREATED:20250411T233328Z
LAST-MODIFIED:20260422T230918Z
UID:30367-1777370400-1777390200@carefirstontario.ca
SUMMARY:Service Canada Clinic- Pension & CDCP
DESCRIPTION:Service Canada Clinic- Pension & CDCP Date: The last Tuesday of each monthTime: 10:00am – 3:30pmVenue: Carefirst One-Stop Multi-Services Centre              300 Silver Star Blvd.\, Scarborough  Enquiry / Registration: 416-646-5108  Eligibility: 55 years old or above Click to see detailService Canada 福利金諮詢及申請    日期: 每月最後一個星期二時間：上午10時至下午3時30分地點:  耆暉會一站式綜合社區服務中心             300 Silver Star Blvd.\, Scarborough    查詢 / 報名: 416-646-5108  報名條件: 55歲以上人士點擊查詢詳情
URL:https://carefirstontario.ca/event/service-canada-clinic-pension-cdcp-14/
LOCATION:300 Silver Star Blvd\, Toronto\, ON M1V 0G2\, Canada
CATEGORIES:Community Support
END:VEVENT
BEGIN:VEVENT
DTSTART;TZID=America/Toronto:20260428T140000
DTEND;TZID=America/Toronto:20260428T163000
DTSTAMP:20260423T090516
CREATED:20260319T192650Z
LAST-MODIFIED:20260422T225526Z
UID:34680-1777384800-1777393800@carefirstontario.ca
SUMMARY:Living a Healthy Life with Chronic Pain in Cantonese
DESCRIPTION:It’s  is a free online six week workshop series that helps people with chronic pain to better cope with pain symptoms and activities of daily life. Caregivers are welcome to register. We suggest that participants attend all six sessions of the workshop\, where possible. All sessions are 2.5 hours per week. Use of computer camera and audio is required. Workshop is hosted using Zoom Platform. Dates: April 21\, April 28\, May 5\, May12\, May 19\, and May 26  Time: 2:00PM to 4:30PM on Tuesday Registration link: Self-Management Program Central East – Workshop  Registration contact: Self-Management Program Central East         Phone:   1 866 971 5545 Or  Carefirst community health team  Email:  LDPHM@carefirstontario.ca    phone: 416-502-2323 Ext 6193 Special Instructions: work shop is offered in Cantonese Click to see detail 我的健康 \, 我的生活 你的生活是否因為慢性痛症的影響而要面對  日期 2026年4月21日;4月28日;5月5日;5月12日;5月19日;5月26日 不少考驗以及受到併發症的煎熬？請來參加我們連續六週的免費粵語課程: “活出健康生活之慢性痛症自我管理” (逢周二)時間 14:00 PM – 16:30 PM 地點 Zoom 網上平台(Zoom鏈接及書本資料需註冊登記後提供) 參加者須要預先登記，如欲索取更多相關資料︰ 請致電︰ WenZhao416-502-2323 分機 6193  或電郵︰LDPHM@carefirstontario.ca  點擊查詢詳情
URL:https://carefirstontario.ca/event/living-a-healthy-life-with-chronic-pain-in-cantonese-2/
CATEGORIES:Health and Wellbeing
END:VEVENT
BEGIN:VEVENT
DTSTART;TZID=America/Toronto:20260428T170000
DTEND;TZID=America/Toronto:20260428T190000
DTSTAMP:20260423T090516
CREATED:20250709T202109Z
LAST-MODIFIED:20260422T204029Z
UID:31320-1777395600-1777402800@carefirstontario.ca
SUMMARY:Diabetes Education Session (English) (DEP)
DESCRIPTION:Diabetes Education Session (English) When: Tuesday Time: 5:00-7:00 pm Speakers: Registered Nurse\, Registered Dietitian and Registered Physiotherapist Description:Carefirst Diabetes Education Program (DEP) will be hosting a virtual education session on diabetes management. This educational session will include knowledge and understanding of diabetes and preventative measures. This session is open for registered individuals of the DEP program. For more information\, or if you want to register for the Diabetes Education Group Session\, please call 416-847-0283. What you’ll learn:  Understanding the basics of diabetesPrevention of diabetes-related complicationsHealthy eating and exercise with diabetes 
URL:https://carefirstontario.ca/event/diabetes-education-session-english-dep-15/
CATEGORIES:Diabetes
END:VEVENT
END:VCALENDAR