BEGIN:VCALENDAR
VERSION:2.0
PRODID:-//Carefirst - ECPv6.15.20//NONSGML v1.0//EN
CALSCALE:GREGORIAN
METHOD:PUBLISH
X-WR-CALNAME:Carefirst
X-ORIGINAL-URL:https://carefirstontario.ca
X-WR-CALDESC:Events for Carefirst
REFRESH-INTERVAL;VALUE=DURATION:PT1H
X-Robots-Tag:noindex
X-PUBLISHED-TTL:PT1H
BEGIN:VTIMEZONE
TZID:America/Toronto
BEGIN:DAYLIGHT
TZOFFSETFROM:-0500
TZOFFSETTO:-0400
TZNAME:EDT
DTSTART:20250309T070000
END:DAYLIGHT
BEGIN:STANDARD
TZOFFSETFROM:-0400
TZOFFSETTO:-0500
TZNAME:EST
DTSTART:20251102T060000
END:STANDARD
BEGIN:DAYLIGHT
TZOFFSETFROM:-0500
TZOFFSETTO:-0400
TZNAME:EDT
DTSTART:20260308T070000
END:DAYLIGHT
BEGIN:STANDARD
TZOFFSETFROM:-0400
TZOFFSETTO:-0500
TZNAME:EST
DTSTART:20261101T060000
END:STANDARD
BEGIN:DAYLIGHT
TZOFFSETFROM:-0500
TZOFFSETTO:-0400
TZNAME:EDT
DTSTART:20270314T070000
END:DAYLIGHT
BEGIN:STANDARD
TZOFFSETFROM:-0400
TZOFFSETTO:-0500
TZNAME:EST
DTSTART:20271107T060000
END:STANDARD
END:VTIMEZONE
BEGIN:VEVENT
DTSTART;TZID=America/Toronto:20260630T100000
DTEND;TZID=America/Toronto:20260630T153000
DTSTAMP:20260423T120919
CREATED:20250411T233329Z
LAST-MODIFIED:20260422T230919Z
UID:30369-1782813600-1782833400@carefirstontario.ca
SUMMARY:Service Canada Clinic- Pension & CDCP
DESCRIPTION:Service Canada Clinic- Pension & CDCP Date: The last Tuesday of each monthTime: 10:00am – 3:30pmVenue: Carefirst One-Stop Multi-Services Centre              300 Silver Star Blvd.\, Scarborough  Enquiry / Registration: 416-646-5108  Eligibility: 55 years old or above Click to see detailService Canada 福利金諮詢及申請    日期: 每月最後一個星期二時間：上午10時至下午3時30分地點:  耆暉會一站式綜合社區服務中心             300 Silver Star Blvd.\, Scarborough    查詢 / 報名: 416-646-5108  報名條件: 55歲以上人士點擊查詢詳情
URL:https://carefirstontario.ca/event/service-canada-clinic-pension-cdcp-16/
LOCATION:300 Silver Star Blvd\, Toronto\, ON M1V 0G2\, Canada
CATEGORIES:Community Support
END:VEVENT
BEGIN:VEVENT
DTSTART;TZID=America/Toronto:20260630T120000
DTEND;TZID=America/Toronto:20260630T130000
DTSTAMP:20260423T120919
CREATED:20260410T175512Z
LAST-MODIFIED:20260422T224220Z
UID:35175-1782820800-1782824400@carefirstontario.ca
SUMMARY:Hepatitis B Education Program
DESCRIPTION:Mode: VirtualLanguage: Cantonese
URL:https://carefirstontario.ca/event/hepatitis-b-education-program/
CATEGORIES:Chronic Disease Management
END:VEVENT
END:VCALENDAR